BEGIN:VCALENDAR
VERSION:2.0
PRODID:-//wp-events-plugin.com//7.2.3.1//EN
TZID:America/New_York
X-WR-TIMEZONE:America/New_York
BEGIN:VEVENT
UID:217@jewishlifect.org
DTSTART;TZID=America/New_York:20240408T070000
DTEND;TZID=America/New_York:20240408T203000
DTSTAMP:20240401T234008Z
URL:https://jewishlifect.org/events/92nd-center-for-culture-and-arts-repor
 t-from-israel-lucy-aharish-with-avi-issacharoff/
SUMMARY:92nd Center for Culture and Arts: "Report from Israel\," Lucy Ahari
 sh with Avi Issacharoff
DESCRIPTION:Arab-Israeli news anchor Lucy Aharish and Avi Issacharoff\, jou
 rnalist and co-creator of Netflix’s&nbsp\;Fauda\, go behind the headline
 s for an in-depth examination of the state of Israel post-October 7. (In-p
 erson or virtual)\nAharish\, one of the most prominent television broadcas
 ters in Israel — and the very first Arab Muslim news presenter on mainst
 ream Hebrew-language Israeli media\, hosts a daily news show on Reshet cha
 nnel 13. Avi Issacharoff is an award-winning journalist and the creator of
  Israel’s hit TV series\,&nbsp\;Fauda\, who served in the undercover uni
 t on which the series is based. Together\, they will provide on-the-ground
  and behind-the-scenes insights into the situation in Israel\, Gaza and th
 e West Bank. Among the topics discussed are the failure of leadership in I
 srael\, both military and political\; the failure to find a partnership fo
 r peace amidst the Palestinian leadership\; who and where are the emerging
  leaders in the Palestinian Authority\; what the mainstream media does not
  cover about the complexity of the conflict\; and how this will end. Don
 ’t miss the chance to hear insiders’ perspectives from two journalists
  with extensive experience of the area.\nFlyer and additional details on t
 his program and others below\,&nbsp\; $18.00 pp&nbsp\;\nhttps://www.92ny.o
 rg/event/lucy-aharish-with-avi-issacharoff?utm_source=SFMC&amp\;utm_medium
 =Talks_031924&amp\;utm_campaign=Email_Talks_031924&amp\;mcSID=667371
END:VEVENT
BEGIN:VTIMEZONE
TZID:America/New_York
X-LIC-LOCATION:America/New_York
BEGIN:DAYLIGHT
DTSTART:20240310T030000
TZOFFSETFROM:-0500
TZOFFSETTO:-0400
TZNAME:EDT
END:DAYLIGHT
END:VTIMEZONE
END:VCALENDAR