BEGIN:VCALENDAR
VERSION:2.0
PRODID:-//wp-events-plugin.com//7.2.3.1//EN
TZID:America/New_York
X-WR-TIMEZONE:America/New_York
BEGIN:VEVENT
UID:114@jewishlifect.org
DTSTART;TZID=America/New_York:20220520T173000
DTEND;TZID=America/New_York:20220520T183000
DTSTAMP:20220502T145209Z
URL:https://jewishlifect.org/events/coalition-shabbat-memorial-day-through
 -jewish-eyes/
SUMMARY:Coalition SHABBAT\, Memorial Day through Jewish eyes
DESCRIPTION:Rabbi James writes: "As we prepare for Memorial Day\, we will g
 ather for Shabbat and include some readings that reflect on Memorial Day t
 hrough Jewish eyes\, both in the United States and in Israel."
END:VEVENT
BEGIN:VTIMEZONE
TZID:America/New_York
X-LIC-LOCATION:America/New_York
BEGIN:DAYLIGHT
DTSTART:20220313T030000
TZOFFSETFROM:-0500
TZOFFSETTO:-0400
TZNAME:EDT
END:DAYLIGHT
END:VTIMEZONE
END:VCALENDAR