BEGIN:VCALENDAR
VERSION:2.0
PRODID:-//wp-events-plugin.com//7.2.3.1//EN
TZID:America/New_York
X-WR-TIMEZONE:America/New_York
BEGIN:VEVENT
UID:52@jewishlifect.org
DTSTART;TZID=America/New_York:20210312T180000
DTEND;TZID=America/New_York:20210312T193000
DTSTAMP:20210228T152441Z
URL:https://jewishlifect.org/events/coalition-shabbat-service/
SUMMARY:GWCJL Shabbat Service
DESCRIPTION:From Rabbi James:\n\n"On this Shabbat evening we will be finish
 ing the Book of Exodus. Moses appoints artisans to complete the artwork of
  the Tabernacle. This art stands alongside the music of the Levites as a s
 acred form of service to the Divine.&nbsp\; Art\, in all its forms\, has a
  special place in our lives and in our community.&nbsp\; I invite everyone
  to bring a piece of art - it can be a painting\, poem\, a piece of music\
 , a baked item or any other art form -- to share with the Coalition commun
 ity on our Shabbat Zoom. We will make time during our service to celebrate
  the ways in which art continues to play a special role in our lives and i
 n our Jewish experience."[gravityform id="3" title="true" description="tru
 e"]
END:VEVENT
BEGIN:VTIMEZONE
TZID:America/New_York
X-LIC-LOCATION:America/New_York
BEGIN:STANDARD
DTSTART:20201101T010000
TZOFFSETFROM:-0400
TZOFFSETTO:-0500
TZNAME:EST
END:STANDARD
END:VTIMEZONE
END:VCALENDAR