BEGIN:VCALENDAR
VERSION:2.0
PRODID:-//wp-events-plugin.com//7.2.3.1//EN
TZID:America/New_York
X-WR-TIMEZONE:America/New_York
BEGIN:VEVENT
UID:106@jewishlifect.org
DTSTART;TZID=America/New_York:20220318T173000
DTEND;TZID=America/New_York:20220318T183000
DTSTAMP:20220227T145213Z
URL:https://jewishlifect.org/events/gwcjl-shabbat-purim/
SUMMARY:GWCJL Shabbat/PURIM
DESCRIPTION:Come join the Coalition for a Shabbat and Purim celebration. &n
 bsp\;We will read from the Megillah\, tell some jokes\, watch a Purim spie
 l and celebrate! &nbsp\;Feel free to bring a groggier\, some hamantaschen 
 and a beverage of your choice to help enhance your Purim experience.\n\nJo
 in us!\n\n&nbsp\;\n\n[gravityform id="3" title="true" description="true"]
END:VEVENT
BEGIN:VTIMEZONE
TZID:America/New_York
X-LIC-LOCATION:America/New_York
BEGIN:DAYLIGHT
DTSTART:20220313T030000
TZOFFSETFROM:-0500
TZOFFSETTO:-0400
TZNAME:EDT
END:DAYLIGHT
END:VTIMEZONE
END:VCALENDAR