BEGIN:VCALENDAR
VERSION:2.0
PRODID:-//wp-events-plugin.com//7.2.3.1//EN
TZID:America/New_York
X-WR-TIMEZONE:America/New_York
BEGIN:VEVENT
UID:278@jewishlifect.org
DTSTART;TZID=America/New_York:20250816T190000
DTEND;TZID=America/New_York:20250816T203000
DTSTAMP:20250808T184611Z
URL:https://jewishlifect.org/events/the-afro-semitic-experience-concerts-o
 n-the-green-new-milford/
SUMMARY:The AFRO-SEMITIC EXPERIENCE\, Concerts on the Green\, New Milford
DESCRIPTION:Treat yourself to a dynamic evening of song and creative music 
 on the New Milford Green! Rain or shine. Rain location is the First Congre
 gational Church of New Milford\, 36 Main Street.&nbsp\; The decision to mo
 ve indoors will be made by 4:00 pm day of the event.\n\nThe Afro-Semitic E
 xperience is an American roots jazz band with a difference. They are a gro
 up of Jewish-American and African-American musicians who have been perform
 ing\, recording and teaching together for 25 years.&nbsp\; Together as a b
 and\, they merge their musical roots\, Jewish and Afro-diasporic melodies 
 and groove\, combining the concepts of ase and shalom-power action\, unity
  and peace.\n\nClick the link below to learn more about this intriguing gr
 oup: https://afrosemiticexperience.net/home\n\n&nbsp\;
END:VEVENT
BEGIN:VTIMEZONE
TZID:America/New_York
X-LIC-LOCATION:America/New_York
BEGIN:DAYLIGHT
DTSTART:20250309T030000
TZOFFSETFROM:-0500
TZOFFSETTO:-0400
TZNAME:EDT
END:DAYLIGHT
END:VTIMEZONE
END:VCALENDAR